BEGIN:VCALENDAR
VERSION:2.0
PRODID:-//TYPO3/NONSGML Calendarize//EN


BEGIN:VEVENT
UID:calendarize-inm-weekly-seminar
DTSTAMP:20260224T154226Z

DTSTART:20260226T110000Z
DTEND:20260226T120000Z
    
SUMMARY:17th INM Weekly Seminar
DESCRIPTION: Feb 26 at 13:00 GMT+2 we have a guest from India\, Dr. Prosenjit Das\, representing Indian Institute of Science (IISc)\, with a lecture on "Coupled CFD-phase field model of microstructure evolution for laser powder bed fusion processed superalloys".\nMS Teams link:\nINM Weekly Seminar | Meeting-Join | Microsoft Teams
X-ALT-DESC;FMTTYPE=text/html:<p>&nbsp\;Feb 26 at 13:00 GMT+2 we have a guest from India\, Dr. Prosenjit Das\, representing Indian Institute of Science (IISc)\, with a lecture on "Coupled CFD-phase field model of microstructure evolution for laser powder bed fusion processed superalloys".</p>\n<p>MS Teams link:</p>\n<p><a href="https://teams.microsoft.com/l/meetup-join/19%3ameeting_OTdkNjJkYjktNDEyNS00MWE1LTliZWYtZTVhOGRjZGNhN2Ni%40thread.v2/0?context=%7b%22Tid%22%3a%2226844e44-d297-4068-a329-451ce86231f1%22%2c%22Oid%22%3a%225e4aab21-223d-4ed6-ba23-20af20fd1aaf%22%7d">INM Weekly Seminar | Meeting-Join | Microsoft Teams</a></p>
LOCATION:Online
END:VEVENT

END:VCALENDAR