BEGIN:VCALENDAR
VERSION:2.0
PRODID:-//TYPO3/NONSGML Calendarize//EN


BEGIN:VEVENT
UID:calendarize-gramatas-fizmati-latvijas-oranzais-zelts-atversanas-svetki
DTSTAMP:20260415T123908Z

DTSTART:20260427T120000Z
DTEND:20260427T130000Z
    
SUMMARY:Grāmatas "Fizmati – Latvijas oranžais zelts" atvēršanas svētki
DESCRIPTION:"Šobrīd esam Torņakalna jaunajā LU Akadēmiskajā centrā. Kā teica kāds gados jaunāks kolēģis\, tiesa\, runājot tikai par fiziku\, "beidzot esam savās īstajās mājās". Es pievienojos šim teicienam\, lai arī studēju un darba gaita uzsāku Raiņa bulvārī 19 un pa vidu pabiju arī Zeļļu ielas fizmatu centrā. Paldies visiem kolēģiem\, kas iniciēja šīs grāmatas rakstīšanu un piepildīšanu ar saturu! Sava pagātne ir jāzina\, lai droši virzītos uz priekšu. Fizmati – Latvijas oranžais zelts. Kāpēc oranžais? Atbildi meklējiet šai grāmatā\," tā vēsta kādreizējais Fizikas\, matemātikas un optometrijas fakultātes dekāns Sandris Lācis.\nGrāmata veidota\, apkopojot gan fizikas vēstures pētnieku publikācijās pausto\, gan LU izdevumu\, oficiālo dokumentu un LU Fizikas\, matemātikas un optometrijas fakultātes vēsturisko arhīvu\, mācībspēku\, darbinieku un absolventu atmiņu pierakstu informāciju par studiju un darba notikumiem šajā fakultātē. Ilustratīvo materiālu pamatā LU fotoarhīva (Toma Grīnberga) attēli\, LU Fizikas\, matemātikas un optometrijas fakultātes arhīvu materiāli\, kā arī attēli no privātiem krājumiem. Kolēģu iesniegtos materiālus apkopojusi Silvija Čerāne un Agnese Ozoliņa\, materiālus kārtojusi\, precizējusi un literāri rediģējusi Ieva Zarāne\, vāka un iekšlapu dizainu veidojusi\, maketējusi Baiba Lazdiņa.\nUz pasākumu aicināts ikviens interesents!\nLūdzam apstiprināt savu dalību pasākumā līdz 20. aprīļa plkst. 23.59\, aizpildot reģistrācijas anketu.
X-ALT-DESC;FMTTYPE=text/html:<p>"Šobrīd esam Torņakalna jaunajā LU Akadēmiskajā centrā. Kā teica kāds gados jaunāks kolēģis\, tiesa\, runājot tikai par fiziku\, "beidzot esam savās īstajās mājās". Es pievienojos šim teicienam\, lai arī studēju un darba gaita uzsāku Raiņa bulvārī 19 un pa vidu pabiju arī Zeļļu ielas fizmatu centrā. Paldies visiem kolēģiem\, kas iniciēja šīs grāmatas rakstīšanu un piepildīšanu ar saturu! Sava pagātne ir jāzina\, lai droši virzītos uz priekšu. Fizmati – Latvijas oranžais zelts. Kāpēc oranžais? Atbildi meklējiet šai grāmatā\," tā vēsta kādreizējais Fizikas\, matemātikas un optometrijas fakultātes dekāns <strong>Sandris Lācis</strong>.</p>\n<p>Grāmata veidota\, apkopojot gan fizikas vēstures pētnieku publikācijās pausto\, gan LU izdevumu\, oficiālo dokumentu un LU Fizikas\, matemātikas un optometrijas fakultātes vēsturisko arhīvu\, mācībspēku\, darbinieku un absolventu atmiņu pierakstu informāciju par studiju un darba notikumiem šajā fakultātē. Ilustratīvo materiālu pamatā LU fotoarhīva (<strong>Toma Grīnberga</strong>) attēli\, LU Fizikas\, matemātikas un optometrijas fakultātes arhīvu materiāli\, kā arī attēli no privātiem krājumiem. Kolēģu iesniegtos materiālus apkopojusi <strong>Silvija Čerāne</strong> un <strong>Agnese Ozoliņa</strong>\, materiālus kārtojusi\, precizējusi un literāri rediģējusi <strong>Ieva Zarāne</strong>\, vāka un iekšlapu dizainu veidojusi\, maketējusi <strong>Baiba Lazdiņa</strong>.</p>\n<p><strong>Uz pasākumu aicināts ikviens interesents!</strong></p>\n<p>Lūdzam apstiprināt savu dalību pasākumā <strong>līdz 20. aprīļa plkst. 23.59</strong>\, aizpildot <a href="https://forms.cloud.microsoft/pages/responsepage.aspx?id=RE6EJpfSaECjKUUc6GIx8dwkR-FZMuBMmCLOND35TBhUQ01aTTQwUkdDUlBTTTlKNVJYMkpTTkhFRC4u&amp\;route=shorturl" target="_blank" rel="noreferrer"><strong>reģistrācijas anketu</strong></a>.</p>
LOCATION:
END:VEVENT

END:VCALENDAR