BEGIN:VCALENDAR
VERSION:2.0
PRODID:-//TYPO3/NONSGML Calendarize//EN


BEGIN:VEVENT
UID:calendarize-graduation-3
DTSTAMP:20260409T155756Z

DTSTART:20260625T110000Z
DTEND:20260625T130000Z
    
SUMMARY:Graduation
DESCRIPTION:
X-ALT-DESC;FMTTYPE=text/html:
LOCATION:University of Latvia\, Great Hall
END:VEVENT

END:VCALENDAR