BEGIN:VCALENDAR
VERSION:2.0
PRODID:-//TYPO3/NONSGML Calendarize//EN


BEGIN:VEVENT
UID:calendarize-graduation-3-2
DTSTAMP:20260409T155722Z

DTSTART:20260618T070000Z
DTEND:20260618T100000Z
    
SUMMARY:Graduation
DESCRIPTION:
X-ALT-DESC;FMTTYPE=text/html:
LOCATION:University of Latvia\, Great Hall
END:VEVENT

END:VCALENDAR