BEGIN:VCALENDAR
VERSION:2.0
PRODID:-//TYPO3/NONSGML Calendarize//EN


BEGIN:VEVENT
UID:calendarize-fst-graduation-ceremony
DTSTAMP:20260223T172742Z

DTSTART:20260227T080000Z
DTEND:20260226T220000Z
    
SUMMARY:FST Graduation Ceremony
DESCRIPTION:“Programming and Computer Network Administration” – Short‑Cycle Professional Study Programme “Computer Science” – Bachelor’s Study Programme “Computer Science [Advanced Programming]” – Master’s Study Programme
X-ALT-DESC;FMTTYPE=text/html:<p>“Programming and Computer Network Administration” – Short‑Cycle Professional Study Programme “Computer Science” – Bachelor’s Study Programme “Computer Science [Advanced Programming]” – Master’s Study Programme</p>
LOCATION:University of Latvia\, Raiņa Boulevard 19\, Great Hall
END:VEVENT

END:VCALENDAR