BEGIN:VCALENDAR
VERSION:2.0
PRODID:-//TYPO3/NONSGML Calendarize//EN


BEGIN:VEVENT
UID:calendarize-default-7e42ef006eac193974fd92144663edb8
DTSTAMP:20260415T102418Z

DTSTART;VALUE=DATE:20260701
DTEND;VALUE=DATE:20260704
    
SUMMARY:Konference “Developments in Optics and Communications” 
DESCRIPTION:Konference “Developments in Optics and Communications” (DOC) norisināsies LU Zinātņu mājā (Jelgavas ielā 3) no 1. līdz 3. jūlijam\, pulcējot studentus\, pētniekus un optikas un fotonikas nozares profesionāļus. Pirmo reizi tā norisināsies\, apvienojot spēkus ar Polijas ikgadējo jauno zinātnieku konferenci “OptoMeeting” (OPTO). DOC x OPTO 2026 kalpos kā vērtīga platforma ideju apmaiņai\, jaunāko pētījumu prezentēšanai un sadarbības veicināšanai starp zinātni un industriju.\nKonferences tematika aptver lāzerfiziku\, spektroskopiju\, optiskos materiālus un parādības\, redzes zinātni\, biofotoniku un komunikāciju tehnoloģijas. Savu dalību šajā pasākumā jau ir apstiprinājuši starptautiski atzīti pētnieki un industrijas pārstāvji:\nValeria Rodriguez-Fajardo\, Universidad Nacional de Colombia (Kolumbija)\,Jasleen K. Jolly\, University of Oxford (Lielbritānija)\,Benjamin Cromey\, BAE Systems Space & Mission Systems (ASV)\,Shadab Dabagh\, LU Cietvielu fizikas institūts (Latvija)\,David Rogers\, University of Technology of Sydney (Austrāllija).\nLai pastāstītu par savu pētniecisko darbu DOC x OPTO 2026\, iesniedz tēzes līdz 2026. gada 30. aprīlim. Plašāka informācija par konferenci pieejama vietnē: www.docriga.lv \n\nKonferences organizatori pateicas visiem atbalstītājiem un sponsoriem – SPIE\, Optica\, LU Studentu padomei\, LU Cietvielu fizikas institūtam\, LU Eksakto zinātņu un tehnoloģiju fakultātei\, Varšavas Universitātei\, Vroclavas Zinātnes un tehnoloģiju universitātei\, kā arī SWEB projektam. 
X-ALT-DESC;FMTTYPE=text/html:<p>Konference “Developments in Optics and Communications” (DOC) norisināsies LU Zinātņu mājā (Jelgavas ielā 3) no 1. līdz 3. jūlijam\, pulcējot studentus\, pētniekus un optikas un fotonikas nozares profesionāļus. Pirmo reizi tā norisināsies\, apvienojot spēkus ar Polijas ikgadējo jauno zinātnieku konferenci “OptoMeeting” (OPTO). DOC x OPTO 2026 kalpos kā vērtīga platforma ideju apmaiņai\, jaunāko pētījumu prezentēšanai un sadarbības veicināšanai starp zinātni un industriju.</p>\n<p>Konferences tematika aptver lāzerfiziku\, spektroskopiju\, optiskos materiālus un parādības\, redzes zinātni\, biofotoniku un komunikāciju tehnoloģijas. Savu dalību šajā pasākumā jau ir apstiprinājuši starptautiski atzīti pētnieki un industrijas pārstāvji:</p>\n<ul><li>Valeria Rodriguez-Fajardo\, Universidad Nacional de Colombia (Kolumbija)\,</li><li>Jasleen K. Jolly\, University of Oxford (Lielbritānija)\,</li><li>Benjamin Cromey\, BAE Systems Space &amp\; Mission Systems (ASV)\,</li><li>Shadab Dabagh\, LU Cietvielu fizikas institūts (Latvija)\,</li><li>David Rogers\, University of Technology of Sydney (Austrāllija).</li></ul>\n<p>Lai pastāstītu par savu pētniecisko darbu DOC x OPTO 2026\, <strong>iesniedz tēzes līdz 2026. gada 30. aprīlim</strong>. Plašāka informācija par konferenci pieejama vietnē: <a href="https://www.docriga.lv/">www.docriga.lv</a>&nbsp\;</p>\n<hr />\n<p>Konferences organizatori pateicas visiem atbalstītājiem un sponsoriem – SPIE\, Optica\, LU Studentu padomei\, LU Cietvielu fizikas institūtam\, LU Eksakto zinātņu un tehnoloģiju fakultātei\, Varšavas Universitātei\, Vroclavas Zinātnes un tehnoloģiju universitātei\, kā arī SWEB projektam.&nbsp\;</p>
LOCATION:LU Zinātņu mājā (Jelgavas ielā 3)
END:VEVENT

END:VCALENDAR