BEGIN:VCALENDAR
VERSION:2.0
PRODID:-//TYPO3/NONSGML Calendarize//EN


BEGIN:VEVENT
UID:calendarize-default-51886053eabb185d244a5c915310038d
DTSTAMP:20260413T162914Z

DTSTART:20260430T100000Z
DTEND:20260429T210000Z
    
SUMMARY:Promocijas darbu aizstāv Baiba Dirnēna
DESCRIPTION:Darba zinātniskie vadītāji:\nTen. assoc. prof.\, Dr. geogr. Raimonds KasparinskisProf.\, Dr. geogr. Oļģerts Nikodemus\nRecenzenti: \nDr. Rimantas Vaisvalavičius (Vytautas Magnus Universitāte\, Lietuva)\; Dr. Alar Astover (Igaunijas Dzīvības zinātņu Universitāte\, Igaunija)\; Dr. Māris Kļaviņš (Latvijas Universitāte)\nAnotācija\nPromocijas darbā analizēti augsnes veidošanās faktori morēnas paugurainē un Piejūras zemienē. Pētījums paplašina izpratni par augsnes īpašībām un telpiskās izplatības likumsakarībām. Klasificējot augsnes atbilstoši Pasaules augsnes klasifikācijai\, ir ieskicētas nozīmīgākās problēmas un izaicinājumi augsnes klasificēšanā\, un tiek sniegti ieteikumi turpmākai klasifikatora uzlabošanai. Pētījuma rezultātus var izmantot digitālo augsnes karšu sastādīšanā\, augsnes kartēšanā lauka apstākļos un oglekļa krājas telpisko izmaiņu modelēšanā\, kā arī\, lai atbalstītu jaunās augsnes klasifikācijas izmantošanu un augsnes monitoringa sistēmas izveidi Latvijā.\nAtslēgvārdi: Morēnas pauguraines reljefs\; augsnes granulometriskais sastāvs\; līdumu zemkopība\; augsnes erozija\; augsnes veidošanās procesi\; solimovic materiāls\; depodzolizēšanās\; augsnes kartēšana.\nAr promocijas darbu varēs iepazīties LU Bibliotēkā (Raiņa bulvārī 19).
X-ALT-DESC;FMTTYPE=text/html:<p><strong>Darba zinātniskie vadītāji:</strong></p>\n<ul><li>Ten. assoc. prof.\, <i>Dr. geogr. </i><strong>Raimonds Kasparinskis</strong></li><li>Prof.\, <i>Dr. geogr</i>. <strong>Oļģerts Nikodemus</strong></li></ul>\n<p class="text-justify"><strong>Recenzenti:&nbsp\;</strong></p>\n<ol><li><p class="text-justify"><i>Dr. </i>Rimantas Vaisvalavičius<i> </i>(Vytautas Magnus Universitāte\, Lietuva)\;&nbsp\;</p></li><li><p class="text-justify"><i>Dr. </i>Alar Astover&nbsp\;(Igaunijas Dzīvības zinātņu Universitāte\, Igaunija)\;&nbsp\;</p></li><li><p class="text-justify"><i>Dr.&nbsp\;</i>Māris Kļaviņš&nbsp\;(Latvijas Universitāte)</p></li></ol>\n<p><strong>Anotācija</strong></p>\n<p>Promocijas darbā analizēti augsnes veidošanās faktori morēnas paugurainē un Piejūras zemienē. Pētījums paplašina izpratni par augsnes īpašībām un telpiskās izplatības likumsakarībām. Klasificējot augsnes atbilstoši Pasaules augsnes klasifikācijai\, ir ieskicētas nozīmīgākās problēmas un izaicinājumi augsnes klasificēšanā\, un tiek sniegti ieteikumi turpmākai klasifikatora uzlabošanai. Pētījuma rezultātus var izmantot digitālo augsnes karšu sastādīšanā\, augsnes kartēšanā lauka apstākļos un oglekļa krājas telpisko izmaiņu modelēšanā\, kā arī\, lai atbalstītu jaunās augsnes klasifikācijas izmantošanu un augsnes monitoringa sistēmas izveidi Latvijā.</p>\n<p>Atslēgvārdi: Morēnas pauguraines reljefs\; augsnes granulometriskais sastāvs\; līdumu zemkopība\; augsnes erozija\; augsnes veidošanās procesi\; solimovic materiāls\; depodzolizēšanās\; augsnes kartēšana.</p>\n<p>Ar promocijas darbu varēs iepazīties LU Bibliotēkā (Raiņa bulvārī 19).</p>
LOCATION:LU Dabas māja\, Jelgavas iela 1\, 334. telpa
END:VEVENT

END:VCALENDAR