BEGIN:VCALENDAR
VERSION:2.0
PRODID:-//TYPO3/NONSGML Calendarize//EN


BEGIN:VEVENT
UID:calendarize-a-moment-of-remembrance-for-ukraine
DTSTAMP:20260223T172513Z

DTSTART:20260224T093000Z
DTEND:20260224T100000Z
    
SUMMARY:A Moment of Remembrance for Ukraine
DESCRIPTION:At 11:30 a.m.\, we invite you to observe a moment of silence in solidarity with the Ukrainian people and in remembrance of the victims of the war.\nDuring the commemoration\, remarks will be delivered by Aigars Ekers\, Dean of the University of Latvia’s Faculty of Science and Technology (FST)\, Maksym Pogorielov\, Senior Researcher at the UL FST Institute of Atomic Physics and Spectroscopy\, and Ivan Petrychko\, Third Secretary of the Embassy of Ukraine in Latvia. The commemoration will be accompanied by a musical performance by Ukrainian artist Anna Franchuk.\nWe invite everyone to join us in expressing support for the people of Ukraine.
X-ALT-DESC;FMTTYPE=text/html:<p>At 11:30 a.m.\, we invite you to observe a moment of silence in solidarity with the Ukrainian people and in remembrance of the victims of the war.</p>\n<p>During the commemoration\, remarks will be delivered by Aigars Ekers\, Dean of the University of Latvia’s Faculty of Science and Technology (FST)\, Maksym Pogorielov\, Senior Researcher at the UL FST Institute of Atomic Physics and Spectroscopy\, and Ivan Petrychko\, Third Secretary of the Embassy of Ukraine in Latvia. The commemoration will be accompanied by a musical performance by Ukrainian artist Anna Franchuk.</p>\n<p><strong>We invite everyone to join us in expressing support for the people of Ukraine.</strong></p>
LOCATION:UL House of Science\, Jelgavas Street 3\, Atrium (2nd Floor)
END:VEVENT

END:VCALENDAR