BEGIN:VCALENDAR
VERSION:2.0
PRODID:-//TYPO3/NONSGML Calendarize//EN


BEGIN:VEVENT
UID:calendarize-a-guest-lecture-by-professor-andris-klepers
DTSTAMP:20260226T162059Z

DTSTART:20260303T103000Z
DTEND:20260303T120000Z
    
SUMMARY:A Guest Lecture by Professor Andris Klepers
DESCRIPTION:
X-ALT-DESC;FMTTYPE=text/html:
LOCATION:
END:VEVENT

END:VCALENDAR