BEGIN:VCALENDAR
VERSION:2.0
PRODID:-//TYPO3/NONSGML Calendarize//EN


BEGIN:VEVENT
UID:calendarize-29th-annual-quantum-information-processing-conference-2026-qip-1
DTSTAMP:20250828T110143Z

DTSTART;VALUE=DATE:20260124
DTEND;VALUE=DATE:20260131
    
SUMMARY:29th Annual Quantum Information Processing  Conference 2026 (QIP)
DESCRIPTION:We warmly invite you to submit your contributions and join us in Riga for a week of networking\, talks and poster sessions on outstanding recent research in the theory of quantum information and computation. Both established scientists and students at all career stages are encouraged to participate.\nFor Call for Papers\, including details on submission guidelines\, topics of interest\, and important dates\, please\, visit our website: qip2026@lu.lv.\nWe look forward to receiving your submissions and welcoming you to Riga!
X-ALT-DESC;FMTTYPE=text/html:<p>We warmly invite you to submit your contributions and join us in Riga for a week of networking\, talks and poster sessions on outstanding recent research in the theory of quantum information and computation. Both established scientists and students at all career stages are encouraged to participate.</p>\n<p>For Call for Papers\, including details on submission guidelines\, topics of interest\, and important dates\, please\, visit our website: qip2026@lu.lv.</p>\n<p>We look forward to receiving your submissions and welcoming you to Riga!</p>
LOCATION:
END:VEVENT

END:VCALENDAR