BEGIN:VCALENDAR
VERSION:2.0
PRODID:-//TYPO3/NONSGML Calendarize//EN


BEGIN:VEVENT
UID:calendarize-25th-inm-weekly-seminar
DTSTAMP:20260422T144909Z

DTSTART:20260423T100000Z
DTEND:20260423T113000Z
    
SUMMARY:25th INM Weekly Seminar
DESCRIPTION:This week\, on Thursday\, April 23\, at 13:00--14:30 GMT+2 (local Riga time)\, our guest at the INM weekly seminar will be Alexander Vakhrushev from Montanuniversität Leoben\, Christian Doppler Laboratory (CDL) for Metallurgical Applications of Magnetohydrodynamics. The lecture will be dedicated to Magnetohydrodynamics phenomena in continuous casting process under applied electromagnetic braking (abstract attached with this e-mail). As usual\, the presentation will take place in Room 520 at INM\, and will be streamed/recorded online via MS Teams:\nINM Weekly Seminar | Meeting-Join | Microsoft Teams
X-ALT-DESC;FMTTYPE=text/html:<p>This week\, on&nbsp\;<strong>Thursday\, April 23\, at 13:00--14:30 GMT+2 (local Riga time)</strong>\, our guest at the INM weekly seminar will be <strong>Alexander Vakhrushev</strong>&nbsp\;from Montanuniversität Leoben\, Christian Doppler Laboratory (CDL) for Metallurgical Applications of Magnetohydrodynamics. The lecture will&nbsp\;be dedicated to <i><strong>Magnetohydrodynamics phenomena in continuous casting process under applied electromagnetic braking</strong></i>&nbsp\;(abstract attached with this e-mail).<i><strong>&nbsp\;</strong></i>As usual\, the presentation will take place in&nbsp\;<strong>Room 520</strong>&nbsp\;at INM\, and will be streamed/recorded online via MS Teams:</p>\n<p><a href="https://www.google.com/url?q=https://teams.microsoft.com/l/meetup-join/19%253ameeting_OTdkNjJkYjktNDEyNS00MWE1LTliZWYtZTVhOGRjZGNhN2Ni%2540thread.v2/0?context%3D%257b%2522Tid%2522%253a%252226844e44-d297-4068-a329-451ce86231f1%2522%252c%2522Oid%2522%253a%25225e4aab21-223d-4ed6-ba23-20af20fd1aaf%2522%257d&amp\;sa=D&amp\;source=calendar&amp\;usd=2&amp\;usg=AOvVaw1ghCS_Bugx2aWGHcmJ9zK5" title="https://www.google.com/url?q=https://teams.microsoft.com/l/meetup-join/19%253ameeting_OTdkNjJkYjktNDEyNS00MWE1LTliZWYtZTVhOGRjZGNhN2Ni%2540thread.v2/0?context%3D%257b%2522Tid%2522%253a%252226844e44-d297-4068-a329-451ce86231f1%2522%252c%2522Oid%2522%253a%25225e4aab21-223d-4ed6-ba23-20af20fd1aaf%2522%257d&amp\;sa=D&amp\;source=calendar&amp\;usd=2&amp\;usg=AOvVaw1ghCS_Bugx2aWGHcmJ9zK5"><strong>INM Weekly Seminar | Meeting-Join | Microsoft Teams</strong></a></p>
LOCATION:UL House of Science\, Room 520
END:VEVENT

END:VCALENDAR