BEGIN:VCALENDAR
VERSION:2.0
PRODID:-//TYPO3/NONSGML Calendarize//EN


BEGIN:VEVENT
UID:calendarize-25-smi-zinatniskais-seminars
DTSTAMP:20260422T144406Z

DTSTART:20260423T100000Z
DTEND:20260423T113000Z
    
SUMMARY:25. SMI Zinātniskais seminārs
DESCRIPTION:Šo ceturtdien\, 23. aprīlī\, plkst. 13.00–14.30\, SMI iknedēļas semināra viesis būs Alexander Vakhrushev (Montanuniversität Leoben\, Christian Doppler Laboratory (CDL) for Metallurgical Applications of Magnetohydrodynamics)\, kurš sniegs lekciju “Magnetohydrodynamics phenomena in continuous casting process under applied electromagnetic braking”. \nINM Weekly Seminar | Meeting-Join | Microsoft Teams\nUz tikšanos seminārā!
X-ALT-DESC;FMTTYPE=text/html:<p>Šo ceturtdien\, 23. aprīlī\, plkst. 13.00–14.30\, SMI iknedēļas semināra viesis būs <strong>Alexander Vakhrushev</strong> (Montanuniversität Leoben\, Christian Doppler Laboratory (CDL) for Metallurgical Applications of Magnetohydrodynamics)\, kurš sniegs lekciju “<i><strong>Magnetohydrodynamics phenomena in continuous casting process under applied electromagnetic braking”.&nbsp\;</strong></i></p>\n<p><a href="https://www.google.com/url?q=https://teams.microsoft.com/l/meetup-join/19%253ameeting_OTdkNjJkYjktNDEyNS00MWE1LTliZWYtZTVhOGRjZGNhN2Ni%2540thread.v2/0?context%3D%257b%2522Tid%2522%253a%252226844e44-d297-4068-a329-451ce86231f1%2522%252c%2522Oid%2522%253a%25225e4aab21-223d-4ed6-ba23-20af20fd1aaf%2522%257d&amp\;sa=D&amp\;source=calendar&amp\;usd=2&amp\;usg=AOvVaw1ghCS_Bugx2aWGHcmJ9zK5"><strong>INM Weekly Seminar | Meeting-Join | Microsoft Teams</strong></a></p>\n<p>Uz tikšanos seminārā!</p>
LOCATION:LU Zinātņu māja\, 520. telpa
END:VEVENT

END:VCALENDAR