BEGIN:VCALENDAR
VERSION:2.0
PRODID:-//TYPO3/NONSGML Calendarize//EN


BEGIN:VEVENT
UID:calendarize-24-smi-zinatniskais-seminars
DTSTAMP:20260414T120454Z

DTSTART:20260416T100000Z
DTEND:20260416T113000Z
    
SUMMARY:24. SMI Zinātniskais seminārs
DESCRIPTION:Šonedēļ\, ceturtdien\, 16. aprīlī\, plkst. 13.00–14.30 SMI iknedēļas semināra viesis būs profesors Abdellahs Kharicha (Prof. Abdellah Kharicha from Montanuniversität Leoben\, Christian Doppler Laboratory (CDL) magnetohidrodinamikas metalurģiskajos pielietojumos. Lekcija būs veltīta tēmai "Elektriski inducētas plūsmas: no elektrovorteksa līdz tornado līdzīgām struktūrām" (Electrically Induced Flows: From Electrovortex to Tornado-like Structures). Kā parasti\, prezentācija notiks SMI 520. telpā un tiks straumēta/ierakstīta tiešsaistē\, izmantojot MS Teams:\nINM Weekly Seminar | Meeting-Join | Microsoft Teams\n\n
X-ALT-DESC;FMTTYPE=text/html:<p>Šonedēļ\, ceturtdien\, 16. aprīlī\, plkst. 13.00–14.30 SMI iknedēļas semināra viesis būs profesors Abdellahs Kharicha (Prof. Abdellah Kharicha from Montanuniversität Leoben\, Christian Doppler Laboratory (CDL) magnetohidrodinamikas metalurģiskajos pielietojumos. Lekcija būs veltīta tēmai "Elektriski inducētas plūsmas: no elektrovorteksa līdz tornado līdzīgām struktūrām" (Electrically Induced Flows: From Electrovortex to Tornado-like Structures). Kā parasti\, prezentācija notiks SMI 520. telpā un tiks straumēta/ierakstīta tiešsaistē\, izmantojot MS Teams:</p>\n<p><a href="https://www.google.com/url?q=https://teams.microsoft.com/l/meetup-join/19%253ameeting_OTdkNjJkYjktNDEyNS00MWE1LTliZWYtZTVhOGRjZGNhN2Ni%2540thread.v2/0?context%3D%257b%2522Tid%2522%253a%252226844e44-d297-4068-a329-451ce86231f1%2522%252c%2522Oid%2522%253a%25225e4aab21-223d-4ed6-ba23-20af20fd1aaf%2522%257d&amp\;sa=D&amp\;source=calendar&amp\;usd=2&amp\;usg=AOvVaw1ghCS_Bugx2aWGHcmJ9zK5">INM Weekly Seminar | Meeting-Join | Microsoft Teams</a></p>\n\n
LOCATION:LU Zinātņu māja\, 520. telpa
END:VEVENT

END:VCALENDAR