BEGIN:VCALENDAR
VERSION:2.0
PRODID:-//TYPO3/NONSGML Calendarize//EN


BEGIN:VEVENT
UID:calendarize-18th-inm-weekly-seminar
DTSTAMP:20260303T101659Z

DTSTART:20260305T110000Z
DTEND:20260305T123000Z
    
SUMMARY:18th INM Weekly Seminar
DESCRIPTION:This Thursday\, on Mar 5\, at 13:00--14:30 GMT+2\, our latest guest at the weekly seminars will be Valdis Bojarevičs (University of Greenwich)\, presenting their work on Lagrangian particle tracking in CFD and MHD flow systems. We recommend to attend physically in Room 523.\, as Valdis Bojarevičs will be joining us this week in person. Valdis' lecture will span both their work\, and how INM to collaborate in the context of our latest FLPP project on magnetic control of bubble flow in liquid metal here at INM.\nAs usual\, the seminar will be streamed/recorded via MS Teams:\nINM Weekly Seminar | Meeting-Join | Microsoft Teams
X-ALT-DESC;FMTTYPE=text/html:<p>This Thursday\, on <strong>Mar 5\, at 13:00--14:30 GMT+2</strong>\, our latest guest at the weekly seminars will be <strong>Valdis Bojarevičs</strong> (University of Greenwich)\, presenting their work on <strong>Lagrangian particle tracking in CFD and MHD flow systems. </strong>We recommend to attend physically in Room 523.\, as Valdis Bojarevičs will be joining us this week in person. Valdis' lecture will span both their work\, and how INM to collaborate in the context of our latest FLPP project on magnetic control of bubble flow in liquid metal here at INM.</p>\n<p>As usual\, the seminar will be streamed/recorded via MS Teams:</p>\n<p><a href="https://www.google.com/url?q=https://teams.microsoft.com/l/meetup-join/19%253ameeting_OTdkNjJkYjktNDEyNS00MWE1LTliZWYtZTVhOGRjZGNhN2Ni%2540thread.v2/0?context%3D%257b%2522Tid%2522%253a%252226844e44-d297-4068-a329-451ce86231f1%2522%252c%2522Oid%2522%253a%25225e4aab21-223d-4ed6-ba23-20af20fd1aaf%2522%257d&amp\;sa=D&amp\;source=calendar&amp\;usd=2&amp\;usg=AOvVaw1ghCS_Bugx2aWGHcmJ9zK5" title="https://www.google.com/url?q=https://teams.microsoft.com/l/meetup-join/19%253ameeting_OTdkNjJkYjktNDEyNS00MWE1LTliZWYtZTVhOGRjZGNhN2Ni%2540thread.v2/0?context%3D%257b%2522Tid%2522%253a%252226844e44-d297-4068-a329-451ce86231f1%2522%252c%2522Oid%2522%253a%25225e4aab21-223d-4ed6-ba23-20af20fd1aaf%2522%257d&amp\;sa=D&amp\;source=calendar&amp\;usd=2&amp\;usg=AOvVaw1ghCS_Bugx2aWGHcmJ9zK5"><strong>INM Weekly Seminar | Meeting-Join | Microsoft Teams</strong></a></p>
LOCATION:
END:VEVENT

END:VCALENDAR