BEGIN:VCALENDAR
VERSION:2.0
PRODID:-//TYPO3/NONSGML Calendarize//EN


BEGIN:VEVENT
UID:calendarize-18-smi-zinatniskais-seminars
DTSTAMP:20260303T100944Z

DTSTART:20260305T110000Z
DTEND:20260305T123000Z
    
SUMMARY:18. SMI Zinātniskais seminārs
DESCRIPTION:Aicinām semināru apmeklēt 523. auditorijā\, jo šonedēļ Valdis Bojarevičs būs pie mums personīgi. V. Bojareviča lekcija aptvers gan viņa līdzšinējo darbu\, gan arī SMI plānoto sadarbību jaunākā FLPP projekta ietvaros par burbuļu plūsmas magnētisko kontroli šķidrā metālā.\nKā ierasts\, seminārs tiks straumēts/ierakstīts MS Teams platformā
X-ALT-DESC;FMTTYPE=text/html:<p>Aicinām semināru apmeklēt 523. auditorijā\, jo šonedēļ Valdis Bojarevičs būs pie mums personīgi. V. Bojareviča lekcija aptvers gan viņa līdzšinējo darbu\, gan arī SMI plānoto sadarbību jaunākā FLPP projekta ietvaros par burbuļu plūsmas magnētisko kontroli šķidrā metālā.</p>\n<p>Kā ierasts\, seminārs tiks straumēts/ierakstīts <a href="https://www.google.com/url?q=https://teams.microsoft.com/l/meetup-join/19%253ameeting_OTdkNjJkYjktNDEyNS00MWE1LTliZWYtZTVhOGRjZGNhN2Ni%2540thread.v2/0?context%3D%257b%2522Tid%2522%253a%252226844e44-d297-4068-a329-451ce86231f1%2522%252c%2522Oid%2522%253a%25225e4aab21-223d-4ed6-ba23-20af20fd1aaf%2522%257d&amp\;sa=D&amp\;source=calendar&amp\;usd=2&amp\;usg=AOvVaw1ghCS_Bugx2aWGHcmJ9zK5"><strong>MS Teams platformā</strong></a></p>
LOCATION:LU Zinātņu māja\, 523. auditorija
END:VEVENT

END:VCALENDAR