BEGIN:VCALENDAR
VERSION:2.0
PRODID:-//TYPO3/NONSGML Calendarize//EN


BEGIN:VEVENT
UID:calendarize-11th-scientific-seminar-of-the-inm
DTSTAMP:20251222T094013Z

DTSTART:20260115T110000Z
DTEND:20260115T123000Z
    
SUMMARY:11th Scientific Seminar of the INM
DESCRIPTION:Professor Preeti Bhobe (CC) from the Indian Institute of Technology (Indore\, India) has agreed present her lecture on "Extended X-ray Absorption Fine Structure (EXAFS) -- main principles\, mathematics\, and applications"
X-ALT-DESC;FMTTYPE=text/html:<p>Professor<strong> Preeti Bhobe</strong> (CC) from the Indian Institute of Technology (Indore\, India) has agreed present her lecture on <strong>"Extended X-ray Absorption Fine Structure (EXAFS) -- main principles\, mathematics\, and applications"</strong></p>
LOCATION:UL House of Science
END:VEVENT

END:VCALENDAR