BEGIN:VCALENDAR
VERSION:2.0
PRODID:-//TYPO3/NONSGML Calendarize//EN


BEGIN:VEVENT
UID:calendarize-10th-scientific-seminar-of-the-inm
DTSTAMP:20251222T093847Z

DTSTART:20260108T110000Z
DTEND:20260108T123000Z
    
SUMMARY:10th Scientific Seminar of the INM
DESCRIPTION:Andrew Kao & Catherine Tonry\, University of Greenwich (UK)\, "Modelling of Ultrasonic Treatment of Molten Alloys" and “Modelling of Solidification Microstructures”.
X-ALT-DESC;FMTTYPE=text/html:<p><strong>Andrew Kao &amp\; Catherine Tonry</strong>\, University of Greenwich (UK)\, <strong>"</strong><i><strong>Modelling of Ultrasonic Treatment of Molten Alloys</strong></i><strong>"</strong> and <strong>“</strong><i><strong>Modelling of Solidification Microstructures</strong></i><strong>”.</strong></p>
LOCATION:
END:VEVENT

END:VCALENDAR